BEGIN:VCALENDAR
VERSION:2.0
PRODID:-//Tukios.com/
BEGIN:VEVENT
UID:75886853-98d6-4a19-a106-54f1248adeec@www.finnertyandstevens.com
DTSTAMP:20260420T084115Z
DTSTART:20260424T190000Z
DTEND:20260424T200000Z
SUMMARY:Funeral Service
DESCRIPTION:
URL:https://www.finnertyandstevens.com/obituaries/warren-wilcox
LOCATION:Finnerty & Stevens Funeral Home 426 Main St  Great Barrington MA 
	01230
GEO:42.1906872;-73.3657163
END:VEVENT
END:VCALENDAR